Package: MotifDb Version: 1.48.0 Command: F:\biocbuild\bbs-3.20-bioc\R\bin\R.exe CMD INSTALL MotifDb StartedAt: 2025-01-30 16:06:50 -0500 (Thu, 30 Jan 2025) EndedAt: 2025-01-30 16:07:54 -0500 (Thu, 30 Jan 2025) EllapsedTime: 64.1 seconds RetCode: 0 Status: OK