Package: MotifDb Version: 1.48.0 Command: /home/biocbuild/R/R/bin/R CMD INSTALL MotifDb StartedAt: 2025-01-30 20:24:54 -0000 (Thu, 30 Jan 2025) EndedAt: 2025-01-30 20:25:45 -0000 (Thu, 30 Jan 2025) EllapsedTime: 51.8 seconds RetCode: 0 Status: OK