Package: MouseFM Version: 1.16.0 Command: /Library/Frameworks/R.framework/Resources/bin/R CMD check --install=check:MouseFM.install-out.txt --library=/Library/Frameworks/R.framework/Resources/library --no-vignettes --timings MouseFM_1.16.0.tar.gz StartedAt: 2025-02-05 02:52:45 -0500 (Wed, 05 Feb 2025) EndedAt: 2025-02-05 02:56:56 -0500 (Wed, 05 Feb 2025) EllapsedTime: 250.5 seconds RetCode: 0 Status: OK CheckDir: MouseFM.Rcheck Warnings: 0