Package: MouseFM
Version: 1.15.0
Command: C:\Users\biocbuild\bbs-3.20-bioc\R\bin\R.exe CMD check --no-multiarch --install=check:MouseFM.install-out.txt --library=C:\Users\biocbuild\bbs-3.20-bioc\R\library --no-vignettes --timings MouseFM_1.15.0.tar.gz
StartedAt: 2024-07-16 01:58:30 -0400 (Tue, 16 Jul 2024)
EndedAt: 2024-07-16 02:02:35 -0400 (Tue, 16 Jul 2024)
EllapsedTime: 244.7 seconds
RetCode: 0
Status: OK
CheckDir: MouseFM.Rcheck
Warnings: 0