Package: MsBackendMassbank Version: 1.14.0 Command: /home/biocbuild/R/R/bin/R CMD build --keep-empty-dirs --no-resave-data MsBackendMassbank StartedAt: 2024-11-20 02:21:39 -0000 (Wed, 20 Nov 2024) EndedAt: 2024-11-20 02:22:12 -0000 (Wed, 20 Nov 2024) EllapsedTime: 33.0 seconds RetCode: 0 Status: OK PackageFile: MsBackendMassbank_1.14.0.tar.gz PackageFileSize: 464 KiB