Package: MsBackendMassbank Version: 1.14.0 Command: /Library/Frameworks/R.framework/Resources/bin/R CMD check --install=check:MsBackendMassbank.install-out.txt --library=/Library/Frameworks/R.framework/Resources/library --no-vignettes --timings MsBackendMassbank_1.14.0.tar.gz StartedAt: 2025-02-04 06:45:53 -0500 (Tue, 04 Feb 2025) EndedAt: 2025-02-04 06:50:05 -0500 (Tue, 04 Feb 2025) EllapsedTime: 252.0 seconds RetCode: 0 Status: OK CheckDir: MsBackendMassbank.Rcheck Warnings: 0