Package: MsBackendMetaboLights Version: 1.0.0 Command: rm -rf MsBackendMetaboLights.buildbin-libdir && mkdir MsBackendMetaboLights.buildbin-libdir && /Users/biocbuild/BBS/utils/build-universal.sh MsBackendMetaboLights_1.0.0.tar.gz /Library/Frameworks/R.framework/Resources/bin/R MsBackendMetaboLights.buildbin-libdir StartedAt: 2025-02-01 15:52:19 -0500 (Sat, 01 Feb 2025) EndedAt: 2025-02-01 15:52:35 -0500 (Sat, 01 Feb 2025) EllapsedTime: 15.9 seconds RetCode: 0 Status: OK PackageFile: MsBackendMetaboLights_1.0.0.tgz PackageFileSize: 345.5 KiB