Package: MsBackendMetaboLights Version: 1.0.0 Command: /Library/Frameworks/R.framework/Resources/bin/R CMD check --install=check:MsBackendMetaboLights.install-out.txt --library=/Library/Frameworks/R.framework/Resources/library --no-vignettes --timings MsBackendMetaboLights_1.0.0.tar.gz StartedAt: 2025-02-04 06:48:34 -0500 (Tue, 04 Feb 2025) EndedAt: 2025-02-04 06:55:00 -0500 (Tue, 04 Feb 2025) EllapsedTime: 385.5 seconds RetCode: 1 Status: ERROR CheckDir: MsBackendMetaboLights.Rcheck Warnings: NA