Package: MsBackendMetaboLights Version: 1.0.0 Command: chmod a+r MsBackendMetaboLights -R && F:\biocbuild\bbs-3.20-bioc\R\bin\R.exe CMD build --keep-empty-dirs --no-resave-data MsBackendMetaboLights StartedAt: 2025-02-03 20:34:51 -0500 (Mon, 03 Feb 2025) EndedAt: 2025-02-03 20:35:56 -0500 (Mon, 03 Feb 2025) EllapsedTime: 65.1 seconds RetCode: 0 Status: OK PackageFile: MsBackendMetaboLights_1.0.0.tar.gz PackageFileSize: 308.5 KiB