Package: MsBackendMetaboLights Version: 1.0.0 Command: /home/biocbuild/R/R/bin/R CMD check --install=check:MsBackendMetaboLights.install-out.txt --library=/home/biocbuild/R/R/site-library --no-vignettes --timings MsBackendMetaboLights_1.0.0.tar.gz StartedAt: 2025-02-04 09:04:23 -0000 (Tue, 04 Feb 2025) EndedAt: 2025-02-04 09:15:08 -0000 (Tue, 04 Feb 2025) EllapsedTime: 645.0 seconds RetCode: 1 Status: ERROR CheckDir: MsBackendMetaboLights.Rcheck Warnings: NA