Package: MsBackendMgf Version: 1.14.0 Command: /Library/Frameworks/R.framework/Resources/bin/R CMD check --install=check:MsBackendMgf.install-out.txt --library=/Library/Frameworks/R.framework/Resources/library --no-vignettes --timings MsBackendMgf_1.14.0.tar.gz StartedAt: 2025-02-05 02:56:56 -0500 (Wed, 05 Feb 2025) EndedAt: 2025-02-05 02:58:19 -0500 (Wed, 05 Feb 2025) EllapsedTime: 84.0 seconds RetCode: 0 Status: OK CheckDir: MsBackendMgf.Rcheck Warnings: 0