Package: MsBackendMgf
Version: 1.14.0
Command: /Library/Frameworks/R.framework/Resources/bin/R CMD INSTALL MsBackendMgf
StartedAt: 2024-11-19 15:16:39 -0500 (Tue, 19 Nov 2024)
EndedAt: 2024-11-19 15:16:58 -0500 (Tue, 19 Nov 2024)
EllapsedTime: 18.2 seconds
RetCode: 0
Status: OK