Package: MsBackendMgf Version: 1.14.0 Command: /home/biocbuild/bbs-3.20-bioc/R/bin/R CMD INSTALL MsBackendMgf StartedAt: 2025-02-03 15:29:53 -0500 (Mon, 03 Feb 2025) EndedAt: 2025-02-03 15:30:02 -0500 (Mon, 03 Feb 2025) EllapsedTime: 9.0 seconds RetCode: 0 Status: OK