Package: MsBackendMgf Version: 1.14.0 Command: chmod a+r MsBackendMgf -R && F:\biocbuild\bbs-3.20-bioc\R\bin\R.exe CMD build --keep-empty-dirs --no-resave-data MsBackendMgf StartedAt: 2025-02-03 20:34:54 -0500 (Mon, 03 Feb 2025) EndedAt: 2025-02-03 20:35:30 -0500 (Mon, 03 Feb 2025) EllapsedTime: 35.9 seconds RetCode: 0 Status: OK PackageFile: MsBackendMgf_1.14.0.tar.gz PackageFileSize: 327.8 KiB