Package: MsBackendMgf Version: 1.14.0 Command: /home/biocbuild/R/R/bin/R CMD INSTALL MsBackendMgf StartedAt: 2025-02-03 20:37:47 -0000 (Mon, 03 Feb 2025) EndedAt: 2025-02-03 20:37:59 -0000 (Mon, 03 Feb 2025) EllapsedTime: 12.4 seconds RetCode: 0 Status: OK