Package: MsBackendMsp Version: 1.10.0 Command: /Library/Frameworks/R.framework/Resources/bin/R CMD INSTALL MsBackendMsp StartedAt: 2025-02-03 15:52:27 -0500 (Mon, 03 Feb 2025) EndedAt: 2025-02-03 15:52:38 -0500 (Mon, 03 Feb 2025) EllapsedTime: 11.0 seconds RetCode: 0 Status: OK