Package: MsBackendMsp Version: 1.10.0 Command: rm -rf MsBackendMsp.buildbin-libdir && mkdir MsBackendMsp.buildbin-libdir && /Users/biocbuild/BBS/utils/build-universal.sh MsBackendMsp_1.10.0.tar.gz /Library/Frameworks/R.framework/Resources/bin/R MsBackendMsp.buildbin-libdir StartedAt: 2025-02-04 13:32:31 -0500 (Tue, 04 Feb 2025) EndedAt: 2025-02-04 13:33:06 -0500 (Tue, 04 Feb 2025) EllapsedTime: 34.2 seconds RetCode: 0 Status: OK PackageFile: MsBackendMsp_1.10.0.tgz PackageFileSize: 365.2 KiB