Package: MsBackendMsp Version: 1.10.0 Command: /home/biocbuild/bbs-3.20-bioc/R/bin/R CMD INSTALL MsBackendMsp StartedAt: 2025-02-03 15:28:50 -0500 (Mon, 03 Feb 2025) EndedAt: 2025-02-03 15:28:59 -0500 (Mon, 03 Feb 2025) EllapsedTime: 8.8 seconds RetCode: 0 Status: OK