Package: MsBackendMsp Version: 1.10.0 Command: /home/biocbuild/R/R/bin/R CMD check --install=check:MsBackendMsp.install-out.txt --library=/home/biocbuild/R/R/site-library --no-vignettes --timings MsBackendMsp_1.10.0.tar.gz StartedAt: 2025-02-04 09:04:46 -0000 (Tue, 04 Feb 2025) EndedAt: 2025-02-04 09:06:15 -0000 (Tue, 04 Feb 2025) EllapsedTime: 89.1 seconds RetCode: 0 Status: OK CheckDir: MsBackendMsp.Rcheck Warnings: 0