Package: MsBackendRawFileReader Version: 1.12.0 Command: /Library/Frameworks/R.framework/Resources/bin/R CMD build --keep-empty-dirs --no-resave-data MsBackendRawFileReader StartedAt: 2025-02-03 20:37:36 -0500 (Mon, 03 Feb 2025) EndedAt: 2025-02-03 20:42:55 -0500 (Mon, 03 Feb 2025) EllapsedTime: 319.4 seconds RetCode: 0 Status: OK PackageFile: MsBackendRawFileReader_1.12.0.tar.gz PackageFileSize: 1.467 MiB