Package: MsBackendRawFileReader Version: 1.12.0 Command: /Library/Frameworks/R.framework/Resources/bin/R CMD check --install=check:MsBackendRawFileReader.install-out.txt --library=/Library/Frameworks/R.framework/Resources/library --no-vignettes --timings MsBackendRawFileReader_1.12.0.tar.gz StartedAt: 2025-02-04 06:50:05 -0500 (Tue, 04 Feb 2025) EndedAt: 2025-02-04 06:57:42 -0500 (Tue, 04 Feb 2025) EllapsedTime: 456.9 seconds RetCode: 0 Status: OK CheckDir: MsBackendRawFileReader.Rcheck Warnings: 0