Package: MsBackendRawFileReader Version: 1.12.0 Command: /home/biocbuild/bbs-3.20-bioc/R/bin/R CMD build --keep-empty-dirs --no-resave-data --md5 MsBackendRawFileReader StartedAt: 2025-02-03 18:22:19 -0500 (Mon, 03 Feb 2025) EndedAt: 2025-02-03 18:24:38 -0500 (Mon, 03 Feb 2025) EllapsedTime: 139.2 seconds RetCode: 0 Status: OK PackageFile: MsBackendRawFileReader_1.12.0.tar.gz PackageFileSize: 1.596 MiB