Package: MsBackendRawFileReader Version: 1.12.0 Command: /home/biocbuild/bbs-3.20-bioc/R/bin/R CMD INSTALL MsBackendRawFileReader StartedAt: 2025-02-03 15:28:14 -0500 (Mon, 03 Feb 2025) EndedAt: 2025-02-03 15:28:24 -0500 (Mon, 03 Feb 2025) EllapsedTime: 10.3 seconds RetCode: 0 Status: OK