Package: MsBackendRawFileReader Version: 1.12.0 Command: rm -rf MsBackendRawFileReader.buildbin-libdir && mkdir MsBackendRawFileReader.buildbin-libdir && F:\biocbuild\bbs-3.20-bioc\R\bin\R.exe CMD INSTALL --build --library=MsBackendRawFileReader.buildbin-libdir MsBackendRawFileReader_1.12.0.tar.gz StartedAt: 2025-02-04 08:59:49 -0500 (Tue, 04 Feb 2025) EndedAt: 2025-02-04 09:04:55 -0500 (Tue, 04 Feb 2025) EllapsedTime: 305.7 seconds RetCode: 0 Status: OK PackageFile: MsBackendRawFileReader_1.12.0.zip PackageFileSize: 1.026 MiB