Package: MsBackendRawFileReader Version: 1.12.0 Command: chmod a+r MsBackendRawFileReader -R && F:\biocbuild\bbs-3.20-bioc\R\bin\R.exe CMD build --keep-empty-dirs --no-resave-data MsBackendRawFileReader StartedAt: 2025-02-03 20:35:10 -0500 (Mon, 03 Feb 2025) EndedAt: 2025-02-03 20:42:24 -0500 (Mon, 03 Feb 2025) EllapsedTime: 433.4 seconds RetCode: 0 Status: OK PackageFile: MsBackendRawFileReader_1.12.0.tar.gz PackageFileSize: 1.245 MiB