Package: MsBackendRawFileReader Version: 1.12.0 Command: /home/biocbuild/R/R/bin/R CMD INSTALL MsBackendRawFileReader StartedAt: 2025-02-03 20:36:52 -0000 (Mon, 03 Feb 2025) EndedAt: 2025-02-03 20:36:54 -0000 (Mon, 03 Feb 2025) EllapsedTime: 2.0 seconds RetCode: 1 Status: ERROR