Package: MsBackendSql Version: 1.6.0 Command: /home/biocbuild/bbs-3.20-bioc/R/bin/R CMD check --install=check:MsBackendSql.install-out.txt --library=/home/biocbuild/bbs-3.20-bioc/R/site-library --timings MsBackendSql_1.6.0.tar.gz StartedAt: 2025-01-31 00:16:27 -0500 (Fri, 31 Jan 2025) EndedAt: 2025-01-31 00:21:58 -0500 (Fri, 31 Jan 2025) EllapsedTime: 330.4 seconds RetCode: 0 Status: OK CheckDir: MsBackendSql.Rcheck Warnings: 0