Package: MsBackendSql Version: 1.6.0 Command: rm -rf MsBackendSql.buildbin-libdir && mkdir MsBackendSql.buildbin-libdir && F:\biocbuild\bbs-3.20-bioc\R\bin\R.exe CMD INSTALL --build --library=MsBackendSql.buildbin-libdir MsBackendSql_1.6.0.tar.gz StartedAt: 2025-01-31 09:06:45 -0500 (Fri, 31 Jan 2025) EndedAt: 2025-01-31 09:07:22 -0500 (Fri, 31 Jan 2025) EllapsedTime: 37.9 seconds RetCode: 0 Status: OK PackageFile: MsBackendSql_1.6.0.zip PackageFileSize: 611.1 KiB