Package: MsBackendSql Version: 1.6.0 Command: chmod a+r MsBackendSql -R && F:\biocbuild\bbs-3.20-bioc\R\bin\R.exe CMD build --keep-empty-dirs --no-resave-data MsBackendSql StartedAt: 2025-01-30 20:21:11 -0500 (Thu, 30 Jan 2025) EndedAt: 2025-01-30 20:27:05 -0500 (Thu, 30 Jan 2025) EllapsedTime: 354.2 seconds RetCode: 0 Status: OK PackageFile: MsBackendSql_1.6.0.tar.gz PackageFileSize: 337.6 KiB