Package: MsBackendSql Version: 1.6.0 Command: F:\biocbuild\bbs-3.20-bioc\R\bin\R.exe CMD INSTALL MsBackendSql StartedAt: 2025-01-30 15:39:39 -0500 (Thu, 30 Jan 2025) EndedAt: 2025-01-30 15:40:20 -0500 (Thu, 30 Jan 2025) EllapsedTime: 41.2 seconds RetCode: 0 Status: OK