Package: MsCoreUtils Version: 1.18.0 Command: /Library/Frameworks/R.framework/Resources/bin/R CMD check --install=check:MsCoreUtils.install-out.txt --library=/Library/Frameworks/R.framework/Resources/library --no-vignettes --timings MsCoreUtils_1.18.0.tar.gz StartedAt: 2025-02-05 02:58:20 -0500 (Wed, 05 Feb 2025) EndedAt: 2025-02-05 03:03:01 -0500 (Wed, 05 Feb 2025) EllapsedTime: 281.0 seconds RetCode: 0 Status: OK CheckDir: MsCoreUtils.Rcheck Warnings: 0