Package: MsCoreUtils Version: 1.18.0 Command: /Library/Frameworks/R.framework/Resources/bin/R CMD INSTALL MsCoreUtils StartedAt: 2025-02-03 15:16:46 -0500 (Mon, 03 Feb 2025) EndedAt: 2025-02-03 15:16:56 -0500 (Mon, 03 Feb 2025) EllapsedTime: 9.7 seconds RetCode: 0 Status: OK