Package: MsDataHub Version: 1.6.0 Command: /Library/Frameworks/R.framework/Resources/bin/R CMD build --keep-empty-dirs --no-resave-data MsDataHub StartedAt: 2025-02-04 04:07:45 -0500 (Tue, 04 Feb 2025) EndedAt: 2025-02-04 04:13:07 -0500 (Tue, 04 Feb 2025) EllapsedTime: 322.3 seconds RetCode: 0 Status: OK PackageFile: MsDataHub_1.6.0.tar.gz PackageFileSize: 368.7 KiB