Package: MsExperiment Version: 1.8.0 Command: /Library/Frameworks/R.framework/Resources/bin/R CMD build --keep-empty-dirs --no-resave-data MsExperiment StartedAt: 2025-02-04 04:07:56 -0500 (Tue, 04 Feb 2025) EndedAt: 2025-02-04 04:08:51 -0500 (Tue, 04 Feb 2025) EllapsedTime: 54.4 seconds RetCode: 1 Status: ERROR PackageFile: None PackageFileSize: NA