Package: MsExperiment Version: 1.8.0 Command: /Library/Frameworks/R.framework/Resources/bin/R CMD build --keep-empty-dirs --no-resave-data MsExperiment StartedAt: 2025-02-03 20:38:05 -0500 (Mon, 03 Feb 2025) EndedAt: 2025-02-03 20:39:51 -0500 (Mon, 03 Feb 2025) EllapsedTime: 105.7 seconds RetCode: 1 Status: ERROR PackageFile: None PackageFileSize: NA