Package: MsExperiment Version: 1.8.0 Command: /home/biocbuild/bbs-3.20-bioc/R/bin/R CMD check --install=check:MsExperiment.install-out.txt --library=/home/biocbuild/bbs-3.20-bioc/R/site-library --timings MsExperiment_1.8.0.tar.gz StartedAt: 2025-02-04 00:27:34 -0500 (Tue, 04 Feb 2025) EndedAt: 2025-02-04 00:31:52 -0500 (Tue, 04 Feb 2025) EllapsedTime: 258.3 seconds RetCode: 0 Status: WARNINGS CheckDir: MsExperiment.Rcheck Warnings: 1