Package: MsFeatures Version: 1.14.0 Command: rm -rf MsFeatures.buildbin-libdir && mkdir MsFeatures.buildbin-libdir && /Users/biocbuild/BBS/utils/build-universal.sh MsFeatures_1.14.0.tar.gz /Library/Frameworks/R.framework/Resources/bin/R MsFeatures.buildbin-libdir StartedAt: 2025-02-04 13:32:41 -0500 (Tue, 04 Feb 2025) EndedAt: 2025-02-04 13:33:55 -0500 (Tue, 04 Feb 2025) EllapsedTime: 73.4 seconds RetCode: 0 Status: OK PackageFile: MsFeatures_1.14.0.tgz PackageFileSize: 1.255 MiB