Package: MsFeatures Version: 1.14.0 Command: /Library/Frameworks/R.framework/Resources/bin/R CMD build --keep-empty-dirs --no-resave-data MsFeatures StartedAt: 2025-02-03 20:38:06 -0500 (Mon, 03 Feb 2025) EndedAt: 2025-02-03 20:39:31 -0500 (Mon, 03 Feb 2025) EllapsedTime: 84.4 seconds RetCode: 0 Status: OK PackageFile: MsFeatures_1.14.0.tar.gz PackageFileSize: 1.213 MiB