Package: MsFeatures Version: 1.14.0 Command: /Library/Frameworks/R.framework/Resources/bin/R CMD check --install=check:MsFeatures.install-out.txt --library=/Library/Frameworks/R.framework/Resources/library --no-vignettes --timings MsFeatures_1.14.0.tar.gz StartedAt: 2025-02-04 06:51:26 -0500 (Tue, 04 Feb 2025) EndedAt: 2025-02-04 06:56:52 -0500 (Tue, 04 Feb 2025) EllapsedTime: 325.3 seconds RetCode: 0 Status: OK CheckDir: MsFeatures.Rcheck Warnings: 0