Package: MsFeatures Version: 1.14.0 Command: /Library/Frameworks/R.framework/Resources/bin/R CMD INSTALL MsFeatures StartedAt: 2025-02-03 15:24:46 -0500 (Mon, 03 Feb 2025) EndedAt: 2025-02-03 15:25:31 -0500 (Mon, 03 Feb 2025) EllapsedTime: 45.6 seconds RetCode: 0 Status: OK