Package: MsFeatures Version: 1.14.0 Command: /home/biocbuild/R/R/bin/R CMD build --keep-empty-dirs --no-resave-data MsFeatures StartedAt: 2025-02-04 01:12:38 -0000 (Tue, 04 Feb 2025) EndedAt: 2025-02-04 01:13:24 -0000 (Tue, 04 Feb 2025) EllapsedTime: 46.0 seconds RetCode: 0 Status: OK PackageFile: MsFeatures_1.14.0.tar.gz PackageFileSize: 826.6 KiB