Package: MsFeatures
Version: 1.14.0
Command: /home/biocbuild/bbs-3.20-bioc/R/bin/R CMD INSTALL MsFeatures
StartedAt: 2024-11-19 15:38:41 -0500 (Tue, 19 Nov 2024)
EndedAt: 2024-11-19 15:38:59 -0500 (Tue, 19 Nov 2024)
EllapsedTime: 18.1 seconds
RetCode: 0
Status: OK