Package: MsQuality Version: 1.6.2 Command: rm -rf MsQuality.buildbin-libdir && mkdir MsQuality.buildbin-libdir && /Users/biocbuild/BBS/utils/build-universal.sh MsQuality_1.6.2.tar.gz /Library/Frameworks/R.framework/Resources/bin/R MsQuality.buildbin-libdir StartedAt: 2025-02-05 16:50:24 -0500 (Wed, 05 Feb 2025) EndedAt: 2025-02-05 16:51:05 -0500 (Wed, 05 Feb 2025) EllapsedTime: 41.1 seconds RetCode: 0 Status: OK PackageFile: MsQuality_1.6.2.tgz PackageFileSize: 4.378 MiB