Package: MsQuality Version: 1.6.2 Command: /Library/Frameworks/R.framework/Resources/bin/R CMD build --keep-empty-dirs --no-resave-data MsQuality StartedAt: 2025-02-04 04:15:05 -0500 (Tue, 04 Feb 2025) EndedAt: 2025-02-04 04:16:27 -0500 (Tue, 04 Feb 2025) EllapsedTime: 81.3 seconds RetCode: 0 Status: OK PackageFile: MsQuality_1.6.2.tar.gz PackageFileSize: 4.244 MiB