Package: MsQuality Version: 1.6.2 Command: /Library/Frameworks/R.framework/Resources/bin/R CMD check --install=check:MsQuality.install-out.txt --library=/Library/Frameworks/R.framework/Resources/library --no-vignettes --timings MsQuality_1.6.2.tar.gz StartedAt: 2025-02-05 03:07:53 -0500 (Wed, 05 Feb 2025) EndedAt: 2025-02-05 03:15:02 -0500 (Wed, 05 Feb 2025) EllapsedTime: 428.6 seconds RetCode: 0 Status: OK CheckDir: MsQuality.Rcheck Warnings: 0