Package: MsQuality
Version: 1.6.0
Command: /Library/Frameworks/R.framework/Resources/bin/R CMD build --keep-empty-dirs --no-resave-data MsQuality
StartedAt: 2024-11-08 18:17:30 -0500 (Fri, 08 Nov 2024)
EndedAt: 2024-11-08 18:17:56 -0500 (Fri, 08 Nov 2024)
EllapsedTime: 26.3 seconds
RetCode: 0
Status: OK
PackageFile: MsQuality_1.6.0.tar.gz
PackageFileSize: 4.243 <A href="http://en.wikipedia.org/wiki/MiB" target="_blank">MiB</A>