Package: MsQuality Version: 1.6.2 Command: /Library/Frameworks/R.framework/Resources/bin/R CMD INSTALL MsQuality StartedAt: 2025-02-03 16:13:02 -0500 (Mon, 03 Feb 2025) EndedAt: 2025-02-03 16:14:13 -0500 (Mon, 03 Feb 2025) EllapsedTime: 71.4 seconds RetCode: 0 Status: OK