Package: MsQuality Version: 1.6.2 Command: /home/biocbuild/bbs-3.20-bioc/R/bin/R CMD check --install=check:MsQuality.install-out.txt --library=/home/biocbuild/bbs-3.20-bioc/R/site-library --timings MsQuality_1.6.2.tar.gz StartedAt: 2025-02-18 00:12:18 -0500 (Tue, 18 Feb 2025) EndedAt: 2025-02-18 00:18:20 -0500 (Tue, 18 Feb 2025) EllapsedTime: 362.3 seconds RetCode: 0 Status: OK CheckDir: MsQuality.Rcheck Warnings: 0