Package: MsQuality Version: 1.6.2 Command: F:\biocbuild\bbs-3.20-bioc\R\bin\R.exe CMD check --no-multiarch --install=check:MsQuality.install-out.txt --library=F:\biocbuild\bbs-3.20-bioc\R\library --no-vignettes --timings MsQuality_1.6.2.tar.gz StartedAt: 2025-02-04 04:07:58 -0500 (Tue, 04 Feb 2025) EndedAt: 2025-02-04 04:34:40 -0500 (Tue, 04 Feb 2025) EllapsedTime: 1602.2 seconds RetCode: 0 Status: OK CheckDir: MsQuality.Rcheck Warnings: 0