Package: MuData Version: 1.10.0 Command: /Library/Frameworks/R.framework/Resources/bin/R CMD check --install=check:MuData.install-out.txt --library=/Library/Frameworks/R.framework/Resources/library --no-vignettes --timings MuData_1.10.0.tar.gz StartedAt: 2025-02-05 03:17:44 -0500 (Wed, 05 Feb 2025) EndedAt: 2025-02-05 03:21:10 -0500 (Wed, 05 Feb 2025) EllapsedTime: 206.3 seconds RetCode: 0 Status: OK CheckDir: MuData.Rcheck Warnings: 0